BEGIN:VCALENDAR
VERSION:2.0
PRODID:-//wp-events-plugin.com//7.2.3.1//EN
BEGIN:VEVENT
UID:2@weltoffen-leipzig.de
DTSTART;TZID=Europe/Berlin:20231204T170000
DTEND;TZID=Europe/Berlin:20231204T193000
DTSTAMP:20231121T144227Z
URL:https://weltoffen-leipzig.de/veranstaltungen-2/its-all-about-chocolate
 /
SUMMARY:It's all about Chocolate
DESCRIPTION:Passend zur Weihnachts- und Geschenkezeit könnt ihr bei uns eu
 re persönlichen Schokoladentafeln kreativ gestalten.\n\nIn unserem Schoko
 workshop gießt du deine Schokoladentafeln\, verfeinerst sie mit Gewürzen
 \, Nüssen oder zeichnest tolle Muster\, je nach Belieben. Wir nutzen daf
 ür faire Kuvertüre in weiß\, vollmilch und zartbitter.\n\nAußerdem spr
 echen wir über die Herkunft und Geschichte von Kakao\, schauen uns die Bo
 hne im Kontext der Globalisierung und unserem Klima an.\n\nReferierende: K
 aren Saavedra &amp\; Alisa Grunert\n\nDie Veranstaltung findet am Montag\,
  den 04.12.2023 von 17-19:30 Uhr statt. Nur mit Anmeldung.\n\nWo?: WeltOff
 en e.V. - Interkulturelle Bibliothek\, Straße des 17. Juni 11\, 01407 Lei
 pzig. Haltestelle Münzgasse.\n\nFür die Materialkosten und als Eigenbeit
 rag sind 4 € pro Person fällig. Bring diese bitte bar zum Workshop mit.
 \n\nWir freuen uns auf euch!\n\nAus irgendeinem Grund kann ich die abgefra
 gten Anmeldeattribute nicht ändern. Bitte gebt euren ganzen Namen und eur
 e Email-Adresse an. Die Telefonnummer ist nicht notwendig.\nKönnt ihr an 
 der Veranstaltung doch nicht teilnehmen\, schickt bitte eine kurze Email m
 it Name und "Abmeldung Schoko Workshop" bis zum 02.12. an: kontakt@weltoff
 en-leipzig.de
LOCATION:WeltOffen e.V.\, Straße des 17. Juni 11\, Leipzig\, Sachsen\, 041
 07\, Deutschland
X-APPLE-STRUCTURED-LOCATION;VALUE=URI;X-ADDRESS=Straße des 17. Juni 11\, L
 eipzig\, Sachsen\, 04107\, Deutschland;X-APPLE-RADIUS=100;X-TITLE=WeltOffe
 n e.V.:geo:0,0
END:VEVENT
BEGIN:VTIMEZONE
TZID:Europe/Berlin
X-LIC-LOCATION:Europe/Berlin
BEGIN:STANDARD
DTSTART:20231029T020000
TZOFFSETFROM:+0200
TZOFFSETTO:+0100
TZNAME:CET
END:STANDARD
END:VTIMEZONE
END:VCALENDAR